BEGIN:VCALENDAR
VERSION:2.0
PRODID:-//Tukios.com/
BEGIN:VEVENT
UID:cc033a2b-c463-461c-ba3c-ff19d3669b59@www.lajoiefuneralhome.com
DTSTAMP:20260425T163535Z
DTSTART:20260530T150000Z
DTEND:20260530T160000Z
SUMMARY:Memorial Service
DESCRIPTION:
URL:https://www.lajoiefuneralhome.com/obituaries/bernadette-berube
LOCATION:First Assembly of God Church 464 Frenchville Road  Fort Kent ME 
	04743
GEO:47.2811561;-68.5663443
END:VEVENT
END:VCALENDAR