BEGIN:VCALENDAR
VERSION:2.0
PRODID:-//Tukios.com/
BEGIN:VEVENT
UID:60afff66-8267-43be-a02d-cac24eccbebf@www.lajoiefuneralhome.com
DTSTAMP:20260425T175236Z
DTSTART:20260603T140000Z
DTEND:20260603T150000Z
SUMMARY:Mass
DESCRIPTION:
URL:https://www.lajoiefuneralhome.com/obituaries/david-dube
LOCATION: 3443 Aroostook Road  Eagle Lake ME 04739
GEO:47.0322102;-68.5956518
END:VEVENT
END:VCALENDAR