BEGIN:VCALENDAR
VERSION:2.0
PRODID:-//Tukios.com/
BEGIN:VEVENT
UID:f2a163fb-b73d-4a73-bd3c-8b6d6dd84bfd@www.lajoiefuneralhome.com
DTSTAMP:20260425T175523Z
DTSTART:20260603T150000Z
DTEND:20260603T160000Z
SUMMARY:Interment
DESCRIPTION:
URL:https://www.lajoiefuneralhome.com/obituaries/david-dube
LOCATION: 3451 Maine 11  Eagle Lake ME 04739
GEO:47.0316423;-68.5960217
END:VEVENT
END:VCALENDAR