BEGIN:VCALENDAR
VERSION:2.0
PRODID:-//Tukios.com/
BEGIN:VEVENT
UID:22029cf8-816b-402f-9561-de02f2719e25@www.lajoiefuneralhome.com
DTSTAMP:20260420T234018Z
DTSTART:20260505
SUMMARY:Interment
DESCRIPTION:
URL:https://www.lajoiefuneralhome.com/obituaries/james-corriveau
LOCATION:St Joseph Old Cemetery Main St.  Wallagrass ME 04781
GEO:47.148785;-68.5910228
END:VEVENT
END:VCALENDAR