BEGIN:VCALENDAR
VERSION:2.0
PRODID:-//Tukios.com/
BEGIN:VEVENT
UID:887c15c2-756d-4edd-9d2f-7bb1d64016a9@www.lajoiefuneralhome.com
DTSTAMP:20260420T234018Z
DTSTART:20260423T123000Z
DTEND:20260423T133000Z
SUMMARY:Visitation
DESCRIPTION:
URL:https://www.lajoiefuneralhome.com/obituaries/james-corriveau
LOCATION: 14 East Main Street  Fort Kent ME 04743
GEO:47.2529259;-68.5920994
END:VEVENT
END:VCALENDAR