BEGIN:VCALENDAR
VERSION:2.0
PRODID:-//Tukios.com/
BEGIN:VEVENT
UID:53df82da-4c55-45cf-b5cc-3c26d8d32310@www.lajoiefuneralhome.com
DTSTAMP:20260420T233045Z
DTSTART:20260423T140000Z
DTEND:20260423T150000Z
SUMMARY:Mass
DESCRIPTION:
URL:https://www.lajoiefuneralhome.com/obituaries/james-corriveau
LOCATION: 26 East Main Street  Fort Kent ME 04743
GEO:47.2539335;-68.5919778
END:VEVENT
END:VCALENDAR