BEGIN:VCALENDAR
VERSION:2.0
PRODID:-//Tukios.com/
BEGIN:VEVENT
UID:a83691f7-7c9b-4945-a0a1-49160bae0234@www.lajoiefuneralhome.com
DTSTAMP:20260421T193015Z
DTSTART:20260427T163000Z
DTEND:20260427T183000Z
SUMMARY:Visitation
DESCRIPTION:
URL:https://www.lajoiefuneralhome.com/obituaries/jovette-pelletier
LOCATION:Saint-Thomas-d'Aquin Church 45 De l'Eglise Road  Lac Baker, New 
	Brunswick  E7A
GEO:47.3358727;-68.6408294
END:VEVENT
END:VCALENDAR