BEGIN:VCALENDAR
VERSION:2.0
PRODID:-//Tukios.com/
BEGIN:VEVENT
UID:bd5c43b8-5049-43c6-b03d-3292d651aa8c@www.lajoiefuneralhome.com
DTSTAMP:20260421T193015Z
DTSTART:20260427T190000Z
DTEND:20260427T200000Z
SUMMARY:Funeral Service
DESCRIPTION:
URL:https://www.lajoiefuneralhome.com/obituaries/jovette-pelletier
LOCATION: 45 De l'Eglise Road  Lac Baker, New Brunswick  E7A
GEO:47.3358727;-68.6408294
END:VEVENT
END:VCALENDAR