BEGIN:VCALENDAR
VERSION:2.0
PRODID:-//Tukios.com/
BEGIN:VEVENT
UID:6fc319d0-fe0d-41d9-82f1-fff9e21630b6@www.lajoiefuneralhome.com
DTSTAMP:20260421T024135Z
DTSTART:20260529T150000Z
DTEND:20260529T160000Z
SUMMARY:Graveside Service
DESCRIPTION:
URL:https://www.lajoiefuneralhome.com/obituaries/sandra-froehlich
LOCATION:St. Mary’s Cemetery 3443 Aroostook Road  Eagle Lake ME 04739
GEO:47.0322102;-68.5956518
END:VEVENT
END:VCALENDAR